BEGIN:VCALENDAR
VERSION:2.0
PRODID:-//Devpost\, Inc.//Your idea vs 1\,000 other marketers. Let’s see 
 where you actually stand.//EN
CALSCALE:GREGORIAN
BEGIN:VTIMEZONE
TZID:Asia/Kolkata
BEGIN:STANDARD
DTSTART:19451014T230000
TZOFFSETFROM:+0630
TZOFFSETTO:+0530
TZNAME:IST
END:STANDARD
END:VTIMEZONE
BEGIN:VEVENT
DTSTAMP:20260422T082732Z
UID:2b6dee57-a0a8-4fa2-9cd0-d18fbf41f978
DTSTART;TZID=Asia/Kolkata:20260629T170000
DTEND;TZID=Asia/Kolkata:20260629T170000
DESCRIPTION:https://idea-vs-1000-marketers.devpost.com/
SUMMARY:Your idea vs 1\,000 other marketers. Let’s see where you actually
  stand. submission deadline
BEGIN:VALARM
ACTION:DISPLAY
TRIGGER:-P7D
SUMMARY:Just 7 left days until the submission deadline!
END:VALARM
END:VEVENT
END:VCALENDAR
